BEGIN:VCALENDAR
VERSION:2.0
PRODID:-//LoveBug &amp; Me Music and Sensory Art - ECPv6.15.20//NONSGML v1.0//EN
CALSCALE:GREGORIAN
METHOD:PUBLISH
X-WR-CALNAME:LoveBug &amp; Me Music and Sensory Art
X-ORIGINAL-URL:https://lovebugandme.com
X-WR-CALDESC:Events for LoveBug &amp; Me Music and Sensory Art
REFRESH-INTERVAL;VALUE=DURATION:PT1H
X-Robots-Tag:noindex
X-PUBLISHED-TTL:PT1H
BEGIN:VTIMEZONE
TZID:America/Los_Angeles
BEGIN:DAYLIGHT
TZOFFSETFROM:-0800
TZOFFSETTO:-0700
TZNAME:PDT
DTSTART:20240310T100000
END:DAYLIGHT
BEGIN:STANDARD
TZOFFSETFROM:-0700
TZOFFSETTO:-0800
TZNAME:PST
DTSTART:20241103T090000
END:STANDARD
BEGIN:DAYLIGHT
TZOFFSETFROM:-0800
TZOFFSETTO:-0700
TZNAME:PDT
DTSTART:20250309T100000
END:DAYLIGHT
BEGIN:STANDARD
TZOFFSETFROM:-0700
TZOFFSETTO:-0800
TZNAME:PST
DTSTART:20251102T090000
END:STANDARD
BEGIN:DAYLIGHT
TZOFFSETFROM:-0800
TZOFFSETTO:-0700
TZNAME:PDT
DTSTART:20260308T100000
END:DAYLIGHT
BEGIN:STANDARD
TZOFFSETFROM:-0700
TZOFFSETTO:-0800
TZNAME:PST
DTSTART:20261101T090000
END:STANDARD
END:VTIMEZONE
BEGIN:VEVENT
DTSTART;VALUE=DATE:20251018
DTEND;VALUE=DATE:20251020
DTSTAMP:20260419T124143
CREATED:20250905T210603Z
LAST-MODIFIED:20250908T190827Z
UID:54822-1760745600-1760918399@lovebugandme.com
SUMMARY:Halloween Sing-Alongs
DESCRIPTION:Join us outdoors for a not-so-spooky celebration full of singing\, dancing\, and sensory play—where Halloween magic is in the air and sweet memories are made! \nSANTA MONICA • 10/18  \nPASADENA  • 10/19  \nTime: 3:00 – 4:30 PM \nCLICK HERE: TICKETS \nMember: $40 for 1 child + 2 adults \nNon-member: $45 for 1 child + 2 adults \nAdditional family members: $15 \n*Member pricing applicable if you are actively enrolled in our ongoing Lovebug & Me Music or Art Classes Membership \n 
URL:https://lovebugandme.com/event/halloween-sing-alongs/
CATEGORIES:Babies,Family,Kids,Special,Toddlers
ATTACH;FMTTYPE=image/png:https://lovebugandme.com/wp-content/uploads/2025/09/Halloween-Sing-Along-25.png
END:VEVENT
END:VCALENDAR